BEGIN:VCALENDAR
VERSION:2.0
PRODID:-//wp-events-plugin.com//7.0.5//EN
BEGIN:VEVENT
UID:3@cardsattak.com
DTSTART:20241004T210000Z
DTEND:20241004T234500Z
DTSTAMP:20240920T130503Z
URL:https://cardsattak.com/events/boxbreak-sur-voggt-2/
SUMMARY:Boxbreak sur Voggt
DESCRIPTION:Boxbreak en live sur Voggt
LOCATION:https://voggt.com/fr/cardsattak
END:VEVENT
END:VCALENDAR